Workbook

Sheet بيانات الموظفين
A1: nerp.sa — تحليل ضغط الأجور والعدالة الداخلية (Pay Compression & Internal Equity)
A2: إعداد: نايف العنزي | nerp.sa | linkedin.com/in/naifm1alanazi
A3: اكتب لكل موظف: المسمى، والجنس، وسنوات الخدمة في الوظيفة، والراتب الأساسي، وآخر تقييم أداء (1–5). المقارنة تتم داخل نفس المسمى فقط. ضغط الأجور: موظف قديم (3 سنوات فأكثر) راتبه قريب من رواتب المعيَّنين الجدد أو أقل منها. الأرقام أمثلة.
A5: حد الفرق الذي يحتاج تبريرًا | B5: 0.15 | C5: سنوات "القديم" | D5: 3 | E5: سنوات "الجديد" أقل من | F5: 1
A7: الموظف | B7: المسمى الوظيفي | C7: الجنس | D7: سنوات الخدمة في الوظيفة | E7: الراتب الأساسي | F7: تقييم الأداء (1–5) | G7: متوسط راتب نفس الوظيفة | H7: الفرق عن المتوسط | I7: الملاحظة
A8: موظف 1 | B8: أخصائي موارد بشرية | C8: ذكر | D8: 6 | E8: 8200 | F8: 4 | G8: =IF(OR(B8="",E8=""),"",AVERAGEIF($B$8:$B$67,B8,$E$8:$E$67)) | H8: =IF(G8="","",E8/G8-1) | I8: =IF(G8="","",IF(AND(D8>=$D$5,COUNTIFS($B$8:$B$67,B8,$D$8:$D$67,"<"&$F$5)>0,E8<=1.05*IFERROR(AVERAGEIFS($E$8:$E$67,$B$8:$B$67,B8,$D$8:$D$67,"<"&$F$5),0)),"⚠ ضغط أجور: راتبه قريب من الجدد أو أقل",IF(ABS(H8)>$B$5,"◐ فرق كبير عن زملائه يحتاج تبريرًا","✔ لا ملاحظة")))
A9: موظف 2 | B9: أخصائي موارد بشرية | C9: أنثى | D9: 5 | E9: 7600 | F9: 4 | G9: =IF(OR(B9="",E9=""),"",AVERAGEIF($B$8:$B$67,B9,$E$8:$E$67)) | H9: =IF(G9="","",E9/G9-1) | I9: =IF(G9="","",IF(AND(D9>=$D$5,COUNTIFS($B$8:$B$67,B9,$D$8:$D$67,"<"&$F$5)>0,E9<=1.05*IFERROR(AVERAGEIFS($E$8:$E$67,$B$8:$B$67,B9,$D$8:$D$67,"<"&$F$5),0)),"⚠ ضغط أجور: راتبه قريب من الجدد أو أقل",IF(ABS(H9)>$B$5,"◐ فرق كبير عن زملائه يحتاج تبريرًا","✔ لا ملاحظة")))
A10: موظف 3 | B10: أخصائي موارد بشرية | C10: أنثى | D10: 0.5 | E10: 8400 | F10: 3 | G10: =IF(OR(B10="",E10=""),"",AVERAGEIF($B$8:$B$67,B10,$E$8:$E$67)) | H10: =IF(G10="","",E10/G10-1) | I10: =IF(G10="","",IF(AND(D10>=$D$5,COUNTIFS($B$8:$B$67,B10,$D$8:$D$67,"<"&$F$5)>0,E10<=1.05*IFERROR(AVERAGEIFS($E$8:$E$67,$B$8:$B$67,B10,$D$8:$D$67,"<"&$F$5),0)),"⚠ ضغط أجور: راتبه قريب من الجدد أو أقل",IF(ABS(H10)>$B$5,"◐ فرق كبير عن زملائه يحتاج تبريرًا","✔ لا ملاحظة")))
A11: موظف 4 | B11: أخصائي موارد بشرية | C11: ذكر | D11: 0.8 | E11: 8300 | F11: 3 | G11: =IF(OR(B11="",E11=""),"",AVERAGEIF($B$8:$B$67,B11,$E$8:$E$67)) | H11: =IF(G11="","",E11/G11-1) | I11: =IF(G11="","",IF(AND(D11>=$D$5,COUNTIFS($B$8:$B$67,B11,$D$8:$D$67,"<"&$F$5)>0,E11<=1.05*IFERROR(AVERAGEIFS($E$8:$E$67,$B$8:$B$67,B11,$D$8:$D$67,"<"&$F$5),0)),"⚠ ضغط أجور: راتبه قريب من الجدد أو أقل",IF(ABS(H11)>$B$5,"◐ فرق كبير عن زملائه يحتاج تبريرًا","✔ لا ملاحظة")))
A12: موظف 5 | B12: محاسب | C12: ذكر | D12: 4 | E12: 8100 | F12: 4 | G12: =IF(OR(B12="",E12=""),"",AVERAGEIF($B$8:$B$67,B12,$E$8:$E$67)) | H12: =IF(G12="","",E12/G12-1) | I12: =IF(G12="","",IF(AND(D12>=$D$5,COUNTIFS($B$8:$B$67,B12,$D$8:$D$67,"<"&$F$5)>0,E12<=1.05*IFERROR(AVERAGEIFS($E$8:$E$67,$B$8:$B$67,B12,$D$8:$D$67,"<"&$F$5),0)),"⚠ ضغط أجور: راتبه قريب من الجدد أو أقل",IF(ABS(H12)>$B$5,"◐ فرق كبير عن زملائه يحتاج تبريرًا","✔ لا ملاحظة")))
A13: موظف 6 | B13: محاسب | C13: أنثى | D13: 3 | E13: 7900 | F13: 4 | G13: =IF(OR(B13="",E13=""),"",AVERAGEIF($B$8:$B$67,B13,$E$8:$E$67)) | H13: =IF(G13="","",E13/G13-1) | I13: =IF(G13="","",IF(AND(D13>=$D$5,COUNTIFS($B$8:$B$67,B13,$D$8:$D$67,"<"&$F$5)>0,E13<=1.05*IFERROR(AVERAGEIFS($E$8:$E$67,$B$8:$B$67,B13,$D$8:$D$67,"<"&$F$5),0)),"⚠ ضغط أجور: راتبه قريب من الجدد أو أقل",IF(ABS(H13)>$B$5,"◐ فرق كبير عن زملائه يحتاج تبريرًا","✔ لا ملاحظة")))
A14: موظف 7 | B14: محاسب | C14: ذكر | D14: 0.3 | E14: 7700 | F14: 3 | G14: =IF(OR(B14="",E14=""),"",AVERAGEIF($B$8:$B$67,B14,$E$8:$E$67)) | H14: =IF(G14="","",E14/G14-1) | I14: =IF(G14="","",IF(AND(D14>=$D$5,COUNTIFS($B$8:$B$67,B14,$D$8:$D$67,"<"&$F$5)>0,E14<=1.05*IFERROR(AVERAGEIFS($E$8:$E$67,$B$8:$B$67,B14,$D$8:$D$67,"<"&$F$5),0)),"⚠ ضغط أجور: راتبه قريب من الجدد أو أقل",IF(ABS(H14)>$B$5,"◐ فرق كبير عن زملائه يحتاج تبريرًا","✔ لا ملاحظة")))
A15: موظف 8 | B15: مندوب مبيعات | C15: ذكر | D15: 2 | E15: 5200 | F15: 3 | G15: =IF(OR(B15="",E15=""),"",AVERAGEIF($B$8:$B$67,B15,$E$8:$E$67)) | H15: =IF(G15="","",E15/G15-1) | I15: =IF(G15="","",IF(AND(D15>=$D$5,COUNTIFS($B$8:$B$67,B15,$D$8:$D$67,"<"&$F$5)>0,E15<=1.05*IFERROR(AVERAGEIFS($E$8:$E$67,$B$8:$B$67,B15,$D$8:$D$67,"<"&$F$5),0)),"⚠ ضغط أجور: راتبه قريب من الجدد أو أقل",IF(ABS(H15)>$B$5,"◐ فرق كبير عن زملائه يحتاج تبريرًا","✔ لا ملاحظة")))
A16: موظف 9 | B16: مندوب مبيعات | C16: ذكر | D16: 0.6 | E16: 5100 | F16: 3 | G16: =IF(OR(B16="",E16=""),"",AVERAGEIF($B$8:$B$67,B16,$E$8:$E$67)) | H16: =IF(G16="","",E16/G16-1) | I16: =IF(G16="","",IF(AND(D16>=$D$5,COUNTIFS($B$8:$B$67,B16,$D$8:$D$67,"<"&$F$5)>0,E16<=1.05*IFERROR(AVERAGEIFS($E$8:$E$67,$B$8:$B$67,B16,$D$8:$D$67,"<"&$F$5),0)),"⚠ ضغط أجور: راتبه قريب من الجدد أو أقل",IF(ABS(H16)>$B$5,"◐ فرق كبير عن زملائه يحتاج تبريرًا","✔ لا ملاحظة")))
A17: موظف 10 | B17: مندوب مبيعات | C17: أنثى | D17: 3 | E17: 5400 | F17: 5 | G17: =IF(OR(B17="",E17=""),"",AVERAGEIF($B$8:$B$67,B17,$E$8:$E$67)) | H17: =IF(G17="","",E17/G17-1) | I17: =IF(G17="","",IF(AND(D17>=$D$5,COUNTIFS($B$8:$B$67,B17,$D$8:$D$67,"<"&$F$5)>0,E17<=1.05*IFERROR(AVERAGEIFS($E$8:$E$67,$B$8:$B$67,B17,$D$8:$D$67,"<"&$F$5),0)),"⚠ ضغط أجور: راتبه قريب من الجدد أو أقل",IF(ABS(H17)>$B$5,"◐ فرق كبير عن زملائه يحتاج تبريرًا","✔ لا ملاحظة")))
G18: =IF(OR(B18="",E18=""),"",AVERAGEIF($B$8:$B$67,B18,$E$8:$E$67)) | H18: =IF(G18="","",E18/G18-1) | I18: =IF(G18="","",IF(AND(D18>=$D$5,COUNTIFS($B$8:$B$67,B18,$D$8:$D$67,"<"&$F$5)>0,E18<=1.05*IFERROR(AVERAGEIFS($E$8:$E$67,$B$8:$B$67,B18,$D$8:$D$67,"<"&$F$5),0)),"⚠ ضغط أجور: راتبه قريب من الجدد أو أقل",IF(ABS(H18)>$B$5,"◐ فرق كبير عن زملائه يحتاج تبريرًا","✔ لا ملاحظة")))
G19: =IF(OR(B19="",E19=""),"",AVERAGEIF($B$8:$B$67,B19,$E$8:$E$67)) | H19: =IF(G19="","",E19/G19-1) | I19: =IF(G19="","",IF(AND(D19>=$D$5,COUNTIFS($B$8:$B$67,B19,$D$8:$D$67,"<"&$F$5)>0,E19<=1.05*IFERROR(AVERAGEIFS($E$8:$E$67,$B$8:$B$67,B19,$D$8:$D$67,"<"&$F$5),0)),"⚠ ضغط أجور: راتبه قريب من الجدد أو أقل",IF(ABS(H19)>$B$5,"◐ فرق كبير عن زملائه يحتاج تبريرًا","✔ لا ملاحظة")))
G20: =IF(OR(B20="",E20=""),"",AVERAGEIF($B$8:$B$67,B20,$E$8:$E$67)) | H20: =IF(G20="","",E20/G20-1) | I20: =IF(G20="","",IF(AND(D20>=$D$5,COUNTIFS($B$8:$B$67,B20,$D$8:$D$67,"<"&$F$5)>0,E20<=1.05*IFERROR(AVERAGEIFS($E$8:$E$67,$B$8:$B$67,B20,$D$8:$D$67,"<"&$F$5),0)),"⚠ ضغط أجور: راتبه قريب من الجدد أو أقل",IF(ABS(H20)>$B$5,"◐ فرق كبير عن زملائه يحتاج تبريرًا","✔ لا ملاحظة")))
G21: =IF(OR(B21="",E21=""),"",AVERAGEIF($B$8:$B$67,B21,$E$8:$E$67)) | H21: =IF(G21="","",E21/G21-1) | I21: =IF(G21="","",IF(AND(D21>=$D$5,COUNTIFS($B$8:$B$67,B21,$D$8:$D$67,"<"&$F$5)>0,E21<=1.05*IFERROR(AVERAGEIFS($E$8:$E$67,$B$8:$B$67,B21,$D$8:$D$67,"<"&$F$5),0)),"⚠ ضغط أجور: راتبه قريب من الجدد أو أقل",IF(ABS(H21)>$B$5,"◐ فرق كبير عن زملائه يحتاج تبريرًا","✔ لا ملاحظة")))
G22: =IF(OR(B22="",E22=""),"",AVERAGEIF($B$8:$B$67,B22,$E$8:$E$67)) | H22: =IF(G22="","",E22/G22-1) | I22: =IF(G22="","",IF(AND(D22>=$D$5,COUNTIFS($B$8:$B$67,B22,$D$8:$D$67,"<"&$F$5)>0,E22<=1.05*IFERROR(AVERAGEIFS($E$8:$E$67,$B$8:$B$67,B22,$D$8:$D$67,"<"&$F$5),0)),"⚠ ضغط أجور: راتبه قريب من الجدد أو أقل",IF(ABS(H22)>$B$5,"◐ فرق كبير عن زملائه يحتاج تبريرًا","✔ لا ملاحظة")))
G23: =IF(OR(B23="",E23=""),"",AVERAGEIF($B$8:$B$67,B23,$E$8:$E$67)) | H23: =IF(G23="","",E23/G23-1) | I23: =IF(G23="","",IF(AND(D23>=$D$5,COUNTIFS($B$8:$B$67,B23,$D$8:$D$67,"<"&$F$5)>0,E23<=1.05*IFERROR(AVERAGEIFS($E$8:$E$67,$B$8:$B$67,B23,$D$8:$D$67,"<"&$F$5),0)),"⚠ ضغط أجور: راتبه قريب من الجدد أو أقل",IF(ABS(H23)>$B$5,"◐ فرق كبير عن زملائه يحتاج تبريرًا","✔ لا ملاحظة")))
G24: =IF(OR(B24="",E24=""),"",AVERAGEIF($B$8:$B$67,B24,$E$8:$E$67)) | H24: =IF(G24="","",E24/G24-1) | I24: =IF(G24="","",IF(AND(D24>=$D$5,COUNTIFS($B$8:$B$67,B24,$D$8:$D$67,"<"&$F$5)>0,E24<=1.05*IFERROR(AVERAGEIFS($E$8:$E$67,$B$8:$B$67,B24,$D$8:$D$67,"<"&$F$5),0)),"⚠ ضغط أجور: راتبه قريب من الجدد أو أقل",IF(ABS(H24)>$B$5,"◐ فرق كبير عن زملائه يحتاج تبريرًا","✔ لا ملاحظة")))
G25: =IF(OR(B25="",E25=""),"",AVERAGEIF($B$8:$B$67,B25,$E$8:$E$67)) | H25: =IF(G25="","",E25/G25-1) | I25: =IF(G25="","",IF(AND(D25>=$D$5,COUNTIFS($B$8:$B$67,B25,$D$8:$D$67,"<"&$F$5)>0,E25<=1.05*IFERROR(AVERAGEIFS($E$8:$E$67,$B$8:$B$67,B25,$D$8:$D$67,"<"&$F$5),0)),"⚠ ضغط أجور: راتبه قريب من الجدد أو أقل",IF(ABS(H25)>$B$5,"◐ فرق كبير عن زملائه يحتاج تبريرًا","✔ لا ملاحظة")))
G26: =IF(OR(B26="",E26=""),"",AVERAGEIF($B$8:$B$67,B26,$E$8:$E$67)) | H26: =IF(G26="","",E26/G26-1) | I26: =IF(G26="","",IF(AND(D26>=$D$5,COUNTIFS($B$8:$B$67,B26,$D$8:$D$67,"<"&$F$5)>0,E26<=1.05*IFERROR(AVERAGEIFS($E$8:$E$67,$B$8:$B$67,B26,$D$8:$D$67,"<"&$F$5),0)),"⚠ ضغط أجور: راتبه قريب من الجدد أو أقل",IF(ABS(H26)>$B$5,"◐ فرق كبير عن زملائه يحتاج تبريرًا","✔ لا ملاحظة")))
G27: =IF(OR(B27="",E27=""),"",AVERAGEIF($B$8:$B$67,B27,$E$8:$E$67)) | H27: =IF(G27="","",E27/G27-1) | I27: =IF(G27="","",IF(AND(D27>=$D$5,COUNTIFS($B$8:$B$67,B27,$D$8:$D$67,"<"&$F$5)>0,E27<=1.05*IFERROR(AVERAGEIFS($E$8:$E$67,$B$8:$B$67,B27,$D$8:$D$67,"<"&$F$5),0)),"⚠ ضغط أجور: راتبه قريب من الجدد أو أقل",IF(ABS(H27)>$B$5,"◐ فرق كبير عن زملائه يحتاج تبريرًا","✔ لا ملاحظة")))
G28: =IF(OR(B28="",E28=""),"",AVERAGEIF($B$8:$B$67,B28,$E$8:$E$67)) | H28: =IF(G28="","",E28/G28-1) | I28: =IF(G28="","",IF(AND(D28>=$D$5,COUNTIFS($B$8:$B$67,B28,$D$8:$D$67,"<"&$F$5)>0,E28<=1.05*IFERROR(AVERAGEIFS($E$8:$E$67,$B$8:$B$67,B28,$D$8:$D$67,"<"&$F$5),0)),"⚠ ضغط أجور: راتبه قريب من الجدد أو أقل",IF(ABS(H28)>$B$5,"◐ فرق كبير عن زملائه يحتاج تبريرًا","✔ لا ملاحظة")))
G29: =IF(OR(B29="",E29=""),"",AVERAGEIF($B$8:$B$67,B29,$E$8:$E$67)) | H29: =IF(G29="","",E29/G29-1) | I29: =IF(G29="","",IF(AND(D29>=$D$5,COUNTIFS($B$8:$B$67,B29,$D$8:$D$67,"<"&$F$5)>0,E29<=1.05*IFERROR(AVERAGEIFS($E$8:$E$67,$B$8:$B$67,B29,$D$8:$D$67,"<"&$F$5),0)),"⚠ ضغط أجور: راتبه قريب من الجدد أو أقل",IF(ABS(H29)>$B$5,"◐ فرق كبير عن زملائه يحتاج تبريرًا","✔ لا ملاحظة")))
... G67: =IF(OR(B67="",E67=""),"",AVERAGEIF($B$8:$B$67,B67,$E$8:$E$67)) | H67: =IF(G67="","",E67/G67-1) | I67: =IF(G67="","",IF(AND(D67>=$D$5,COUNTIFS($B$8:$B$67,B67,$D$8:$D$67,"<"&$F$5)>0,E67<=1.05*IFERROR(AVERAGEIFS($E$8:$E$67,$B$8:$B$67,B67,$D$8:$D$67,"<"&$F$5),0)),"⚠ ضغط أجور: راتبه قريب من الجدد أو أقل",IF(ABS(H67)>$B$5,"◐ فرق كبير عن زملائه يحتاج تبريرًا","✔ لا ملاحظة")))

Sheet ملخص الوظائف
A1: nerp.sa — ملخص العدالة الداخلية لكل وظيفة
A2: إعداد: نايف العنزي | nerp.sa | linkedin.com/in/naifm1alanazi
A3: اكتب أسماء الوظائف كما في ورقة البيانات. نسبة الضغط = متوسط راتب الجدد ÷ متوسط راتب القدامى: 95% فأكثر تعني ضغط أجور. فجوة الجنسين تُقارن متوسط الراتب لنفس الوظيفة فقط، والفرق قد يكون مبررًا بالخبرة أو الأداء.
A5: الوظيفة | B5: عدد الموظفين | C5: أقل راتب | D5: أعلى راتب | E5: المتوسط | F5: الانتشار | G5: متوسط الجدد | H5: متوسط القدامى | I5: نسبة الضغط | J5: متوسط الذكور | K5: متوسط الإناث | L5: القراءة
A6: أخصائي موارد بشرية | B6: =IF(A6="","",COUNTIF('بيانات الموظفين'!$B$8:$B$67,A6)) | C6: =IF(OR(A6="",B6=0),"",_xlfn.MINIFS('بيانات الموظفين'!$E$8:$E$67,'بيانات الموظفين'!$B$8:$B$67,A6)) | D6: =IF(OR(A6="",B6=0),"",_xlfn.MAXIFS('بيانات الموظفين'!$E$8:$E$67,'بيانات الموظفين'!$B$8:$B$67,A6)) | E6: =IF(OR(A6="",B6=0),"",AVERAGEIF('بيانات الموظفين'!$B$8:$B$67,A6,'بيانات الموظفين'!$E$8:$E$67)) | F6: =IF(C6="","",D6/C6-1) | G6: =IFERROR(AVERAGEIFS('بيانات الموظفين'!$E$8:$E$67,'بيانات الموظفين'!$B$8:$B$67,A6,'بيانات الموظفين'!$D$8:$D$67,"<"&'بيانات الموظفين'!$F$5),"") | H6: =IFERROR(AVERAGEIFS('بيانات الموظفين'!$E$8:$E$67,'بيانات الموظفين'!$B$8:$B$67,A6,'بيانات الموظفين'!$D$8:$D$67,">="&'بيانات الموظفين'!$D$5),"") | I6: =IF(OR(G6="",H6=""),"",G6/H6) | J6: =IFERROR(AVERAGEIFS('بيانات الموظفين'!$E$8:$E$67,'بيانات الموظفين'!$B$8:$B$67,A6,'بيانات الموظفين'!$C$8:$C$67,"ذكر"),"") | K6: =IFERROR(AVERAGEIFS('بيانات الموظفين'!$E$8:$E$67,'بيانات الموظفين'!$B$8:$B$67,A6,'بيانات الموظفين'!$C$8:$C$67,"أنثى"),"") | L6: =IF(A6="","",IF(AND(I6<>"",I6>=0.95),"⚠ ضغط أجور",IF(AND(J6<>"",K6<>"",ABS(K6/J6-1)>0.05),"◐ راجع فجوة الجنسين ("&TEXT(K6/J6-1,"+0%;-0%")&")","✔ لا ملاحظة")))
A7: محاسب | B7: =IF(A7="","",COUNTIF('بيانات الموظفين'!$B$8:$B$67,A7)) | C7: =IF(OR(A7="",B7=0),"",_xlfn.MINIFS('بيانات الموظفين'!$E$8:$E$67,'بيانات الموظفين'!$B$8:$B$67,A7)) | D7: =IF(OR(A7="",B7=0),"",_xlfn.MAXIFS('بيانات الموظفين'!$E$8:$E$67,'بيانات الموظفين'!$B$8:$B$67,A7)) | E7: =IF(OR(A7="",B7=0),"",AVERAGEIF('بيانات الموظفين'!$B$8:$B$67,A7,'بيانات الموظفين'!$E$8:$E$67)) | F7: =IF(C7="","",D7/C7-1) | G7: =IFERROR(AVERAGEIFS('بيانات الموظفين'!$E$8:$E$67,'بيانات الموظفين'!$B$8:$B$67,A7,'بيانات الموظفين'!$D$8:$D$67,"<"&'بيانات الموظفين'!$F$5),"") | H7: =IFERROR(AVERAGEIFS('بيانات الموظفين'!$E$8:$E$67,'بيانات الموظفين'!$B$8:$B$67,A7,'بيانات الموظفين'!$D$8:$D$67,">="&'بيانات الموظفين'!$D$5),"") | I7: =IF(OR(G7="",H7=""),"",G7/H7) | J7: =IFERROR(AVERAGEIFS('بيانات الموظفين'!$E$8:$E$67,'بيانات الموظفين'!$B$8:$B$67,A7,'بيانات الموظفين'!$C$8:$C$67,"ذكر"),"") | K7: =IFERROR(AVERAGEIFS('بيانات الموظفين'!$E$8:$E$67,'بيانات الموظفين'!$B$8:$B$67,A7,'بيانات الموظفين'!$C$8:$C$67,"أنثى"),"") | L7: =IF(A7="","",IF(AND(I7<>"",I7>=0.95),"⚠ ضغط أجور",IF(AND(J7<>"",K7<>"",ABS(K7/J7-1)>0.05),"◐ راجع فجوة الجنسين ("&TEXT(K7/J7-1,"+0%;-0%")&")","✔ لا ملاحظة")))
A8: مندوب مبيعات | B8: =IF(A8="","",COUNTIF('بيانات الموظفين'!$B$8:$B$67,A8)) | C8: =IF(OR(A8="",B8=0),"",_xlfn.MINIFS('بيانات الموظفين'!$E$8:$E$67,'بيانات الموظفين'!$B$8:$B$67,A8)) | D8: =IF(OR(A8="",B8=0),"",_xlfn.MAXIFS('بيانات الموظفين'!$E$8:$E$67,'بيانات الموظفين'!$B$8:$B$67,A8)) | E8: =IF(OR(A8="",B8=0),"",AVERAGEIF('بيانات الموظفين'!$B$8:$B$67,A8,'بيانات الموظفين'!$E$8:$E$67)) | F8: =IF(C8="","",D8/C8-1) | G8: =IFERROR(AVERAGEIFS('بيانات الموظفين'!$E$8:$E$67,'بيانات الموظفين'!$B$8:$B$67,A8,'بيانات الموظفين'!$D$8:$D$67,"<"&'بيانات الموظفين'!$F$5),"") | H8: =IFERROR(AVERAGEIFS('بيانات الموظفين'!$E$8:$E$67,'بيانات الموظفين'!$B$8:$B$67,A8,'بيانات الموظفين'!$D$8:$D$67,">="&'بيانات الموظفين'!$D$5),"") | I8: =IF(OR(G8="",H8=""),"",G8/H8) | J8: =IFERROR(AVERAGEIFS('بيانات الموظفين'!$E$8:$E$67,'بيانات الموظفين'!$B$8:$B$67,A8,'بيانات الموظفين'!$C$8:$C$67,"ذكر"),"") | K8: =IFERROR(AVERAGEIFS('بيانات الموظفين'!$E$8:$E$67,'بيانات الموظفين'!$B$8:$B$67,A8,'بيانات الموظفين'!$C$8:$C$67,"أنثى"),"") | L8: =IF(A8="","",IF(AND(I8<>"",I8>=0.95),"⚠ ضغط أجور",IF(AND(J8<>"",K8<>"",ABS(K8/J8-1)>0.05),"◐ راجع فجوة الجنسين ("&TEXT(K8/J8-1,"+0%;-0%")&")","✔ لا ملاحظة")))
B9: =IF(A9="","",COUNTIF('بيانات الموظفين'!$B$8:$B$67,A9)) | C9: =IF(OR(A9="",B9=0),"",_xlfn.MINIFS('بيانات الموظفين'!$E$8:$E$67,'بيانات الموظفين'!$B$8:$B$67,A9)) | D9: =IF(OR(A9="",B9=0),"",_xlfn.MAXIFS('بيانات الموظفين'!$E$8:$E$67,'بيانات الموظفين'!$B$8:$B$67,A9)) | E9: =IF(OR(A9="",B9=0),"",AVERAGEIF('بيانات الموظفين'!$B$8:$B$67,A9,'بيانات الموظفين'!$E$8:$E$67)) | F9: =IF(C9="","",D9/C9-1) | G9: =IFERROR(AVERAGEIFS('بيانات الموظفين'!$E$8:$E$67,'بيانات الموظفين'!$B$8:$B$67,A9,'بيانات الموظفين'!$D$8:$D$67,"<"&'بيانات الموظفين'!$F$5),"") | H9: =IFERROR(AVERAGEIFS('بيانات الموظفين'!$E$8:$E$67,'بيانات الموظفين'!$B$8:$B$67,A9,'بيانات الموظفين'!$D$8:$D$67,">="&'بيانات الموظفين'!$D$5),"") | I9: =IF(OR(G9="",H9=""),"",G9/H9) | J9: =IFERROR(AVERAGEIFS('بيانات الموظفين'!$E$8:$E$67,'بيانات الموظفين'!$B$8:$B$67,A9,'بيانات الموظفين'!$C$8:$C$67,"ذكر"),"") | K9: =IFERROR(AVERAGEIFS('بيانات الموظفين'!$E$8:$E$67,'بيانات الموظفين'!$B$8:$B$67,A9,'بيانات الموظفين'!$C$8:$C$67,"أنثى"),"") | L9: =IF(A9="","",IF(AND(I9<>"",I9>=0.95),"⚠ ضغط أجور",IF(AND(J9<>"",K9<>"",ABS(K9/J9-1)>0.05),"◐ راجع فجوة الجنسين ("&TEXT(K9/J9-1,"+0%;-0%")&")","✔ لا ملاحظة")))
B10: =IF(A10="","",COUNTIF('بيانات الموظفين'!$B$8:$B$67,A10)) | C10: =IF(OR(A10="",B10=0),"",_xlfn.MINIFS('بيانات الموظفين'!$E$8:$E$67,'بيانات الموظفين'!$B$8:$B$67,A10)) | D10: =IF(OR(A10="",B10=0),"",_xlfn.MAXIFS('بيانات الموظفين'!$E$8:$E$67,'بيانات الموظفين'!$B$8:$B$67,A10)) | E10: =IF(OR(A10="",B10=0),"",AVERAGEIF('بيانات الموظفين'!$B$8:$B$67,A10,'بيانات الموظفين'!$E$8:$E$67)) | F10: =IF(C10="","",D10/C10-1) | G10: =IFERROR(AVERAGEIFS('بيانات الموظفين'!$E$8:$E$67,'بيانات الموظفين'!$B$8:$B$67,A10,'بيانات الموظفين'!$D$8:$D$67,"<"&'بيانات الموظفين'!$F$5),"") | H10: =IFERROR(AVERAGEIFS('بيانات الموظفين'!$E$8:$E$67,'بيانات الموظفين'!$B$8:$B$67,A10,'بيانات الموظفين'!$D$8:$D$67,">="&'بيانات الموظفين'!$D$5),"") | I10: =IF(OR(G10="",H10=""),"",G10/H10) | J10: =IFERROR(AVERAGEIFS('بيانات الموظفين'!$E$8:$E$67,'بيانات الموظفين'!$B$8:$B$67,A10,'بيانات الموظفين'!$C$8:$C$67,"ذكر"),"") | K10: =IFERROR(AVERAGEIFS('بيانات الموظفين'!$E$8:$E$67,'بيانات الموظفين'!$B$8:$B$67,A10,'بيانات الموظفين'!$C$8:$C$67,"أنثى"),"") | L10: =IF(A10="","",IF(AND(I10<>"",I10>=0.95),"⚠ ضغط أجور",IF(AND(J10<>"",K10<>"",ABS(K10/J10-1)>0.05),"◐ راجع فجوة الجنسين ("&TEXT(K10/J10-1,"+0%;-0%")&")","✔ لا ملاحظة")))
B11: =IF(A11="","",COUNTIF('بيانات الموظفين'!$B$8:$B$67,A11)) | C11: =IF(OR(A11="",B11=0),"",_xlfn.MINIFS('بيانات الموظفين'!$E$8:$E$67,'بيانات الموظفين'!$B$8:$B$67,A11)) | D11: =IF(OR(A11="",B11=0),"",_xlfn.MAXIFS('بيانات الموظفين'!$E$8:$E$67,'بيانات الموظفين'!$B$8:$B$67,A11)) | E11: =IF(OR(A11="",B11=0),"",AVERAGEIF('بيانات الموظفين'!$B$8:$B$67,A11,'بيانات الموظفين'!$E$8:$E$67)) | F11: =IF(C11="","",D11/C11-1) | G11: =IFERROR(AVERAGEIFS('بيانات الموظفين'!$E$8:$E$67,'بيانات الموظفين'!$B$8:$B$67,A11,'بيانات الموظفين'!$D$8:$D$67,"<"&'بيانات الموظفين'!$F$5),"") | H11: =IFERROR(AVERAGEIFS('بيانات الموظفين'!$E$8:$E$67,'بيانات الموظفين'!$B$8:$B$67,A11,'بيانات الموظفين'!$D$8:$D$67,">="&'بيانات الموظفين'!$D$5),"") | I11: =IF(OR(G11="",H11=""),"",G11/H11) | J11: =IFERROR(AVERAGEIFS('بيانات الموظفين'!$E$8:$E$67,'بيانات الموظفين'!$B$8:$B$67,A11,'بيانات الموظفين'!$C$8:$C$67,"ذكر"),"") | K11: =IFERROR(AVERAGEIFS('بيانات الموظفين'!$E$8:$E$67,'بيانات الموظفين'!$B$8:$B$67,A11,'بيانات الموظفين'!$C$8:$C$67,"أنثى"),"") | L11: =IF(A11="","",IF(AND(I11<>"",I11>=0.95),"⚠ ضغط أجور",IF(AND(J11<>"",K11<>"",ABS(K11/J11-1)>0.05),"◐ راجع فجوة الجنسين ("&TEXT(K11/J11-1,"+0%;-0%")&")","✔ لا ملاحظة")))
B12: =IF(A12="","",COUNTIF('بيانات الموظفين'!$B$8:$B$67,A12)) | C12: =IF(OR(A12="",B12=0),"",_xlfn.MINIFS('بيانات الموظفين'!$E$8:$E$67,'بيانات الموظفين'!$B$8:$B$67,A12)) | D12: =IF(OR(A12="",B12=0),"",_xlfn.MAXIFS('بيانات الموظفين'!$E$8:$E$67,'بيانات الموظفين'!$B$8:$B$67,A12)) | E12: =IF(OR(A12="",B12=0),"",AVERAGEIF('بيانات الموظفين'!$B$8:$B$67,A12,'بيانات الموظفين'!$E$8:$E$67)) | F12: =IF(C12="","",D12/C12-1) | G12: =IFERROR(AVERAGEIFS('بيانات الموظفين'!$E$8:$E$67,'بيانات الموظفين'!$B$8:$B$67,A12,'بيانات الموظفين'!$D$8:$D$67,"<"&'بيانات الموظفين'!$F$5),"") | H12: =IFERROR(AVERAGEIFS('بيانات الموظفين'!$E$8:$E$67,'بيانات الموظفين'!$B$8:$B$67,A12,'بيانات الموظفين'!$D$8:$D$67,">="&'بيانات الموظفين'!$D$5),"") | I12: =IF(OR(G12="",H12=""),"",G12/H12) | J12: =IFERROR(AVERAGEIFS('بيانات الموظفين'!$E$8:$E$67,'بيانات الموظفين'!$B$8:$B$67,A12,'بيانات الموظفين'!$C$8:$C$67,"ذكر"),"") | K12: =IFERROR(AVERAGEIFS('بيانات الموظفين'!$E$8:$E$67,'بيانات الموظفين'!$B$8:$B$67,A12,'بيانات الموظفين'!$C$8:$C$67,"أنثى"),"") | L12: =IF(A12="","",IF(AND(I12<>"",I12>=0.95),"⚠ ضغط أجور",IF(AND(J12<>"",K12<>"",ABS(K12/J12-1)>0.05),"◐ راجع فجوة الجنسين ("&TEXT(K12/J12-1,"+0%;-0%")&")","✔ لا ملاحظة")))
B13: =IF(A13="","",COUNTIF('بيانات الموظفين'!$B$8:$B$67,A13)) | C13: =IF(OR(A13="",B13=0),"",_xlfn.MINIFS('بيانات الموظفين'!$E$8:$E$67,'بيانات الموظفين'!$B$8:$B$67,A13)) | D13: =IF(OR(A13="",B13=0),"",_xlfn.MAXIFS('بيانات الموظفين'!$E$8:$E$67,'بيانات الموظفين'!$B$8:$B$67,A13)) | E13: =IF(OR(A13="",B13=0),"",AVERAGEIF('بيانات الموظفين'!$B$8:$B$67,A13,'بيانات الموظفين'!$E$8:$E$67)) | F13: =IF(C13="","",D13/C13-1) | G13: =IFERROR(AVERAGEIFS('بيانات الموظفين'!$E$8:$E$67,'بيانات الموظفين'!$B$8:$B$67,A13,'بيانات الموظفين'!$D$8:$D$67,"<"&'بيانات الموظفين'!$F$5),"") | H13: =IFERROR(AVERAGEIFS('بيانات الموظفين'!$E$8:$E$67,'بيانات الموظفين'!$B$8:$B$67,A13,'بيانات الموظفين'!$D$8:$D$67,">="&'بيانات الموظفين'!$D$5),"") | I13: =IF(OR(G13="",H13=""),"",G13/H13) | J13: =IFERROR(AVERAGEIFS('بيانات الموظفين'!$E$8:$E$67,'بيانات الموظفين'!$B$8:$B$67,A13,'بيانات الموظفين'!$C$8:$C$67,"ذكر"),"") | K13: =IFERROR(AVERAGEIFS('بيانات الموظفين'!$E$8:$E$67,'بيانات الموظفين'!$B$8:$B$67,A13,'بيانات الموظفين'!$C$8:$C$67,"أنثى"),"") | L13: =IF(A13="","",IF(AND(I13<>"",I13>=0.95),"⚠ ضغط أجور",IF(AND(J13<>"",K13<>"",ABS(K13/J13-1)>0.05),"◐ راجع فجوة الجنسين ("&TEXT(K13/J13-1,"+0%;-0%")&")","✔ لا ملاحظة")))
B14: =IF(A14="","",COUNTIF('بيانات الموظفين'!$B$8:$B$67,A14)) | C14: =IF(OR(A14="",B14=0),"",_xlfn.MINIFS('بيانات الموظفين'!$E$8:$E$67,'بيانات الموظفين'!$B$8:$B$67,A14)) | D14: =IF(OR(A14="",B14=0),"",_xlfn.MAXIFS('بيانات الموظفين'!$E$8:$E$67,'بيانات الموظفين'!$B$8:$B$67,A14)) | E14: =IF(OR(A14="",B14=0),"",AVERAGEIF('بيانات الموظفين'!$B$8:$B$67,A14,'بيانات الموظفين'!$E$8:$E$67)) | F14: =IF(C14="","",D14/C14-1) | G14: =IFERROR(AVERAGEIFS('بيانات الموظفين'!$E$8:$E$67,'بيانات الموظفين'!$B$8:$B$67,A14,'بيانات الموظفين'!$D$8:$D$67,"<"&'بيانات الموظفين'!$F$5),"") | H14: =IFERROR(AVERAGEIFS('بيانات الموظفين'!$E$8:$E$67,'بيانات الموظفين'!$B$8:$B$67,A14,'بيانات الموظفين'!$D$8:$D$67,">="&'بيانات الموظفين'!$D$5),"") | I14: =IF(OR(G14="",H14=""),"",G14/H14) | J14: =IFERROR(AVERAGEIFS('بيانات الموظفين'!$E$8:$E$67,'بيانات الموظفين'!$B$8:$B$67,A14,'بيانات الموظفين'!$C$8:$C$67,"ذكر"),"") | K14: =IFERROR(AVERAGEIFS('بيانات الموظفين'!$E$8:$E$67,'بيانات الموظفين'!$B$8:$B$67,A14,'بيانات الموظفين'!$C$8:$C$67,"أنثى"),"") | L14: =IF(A14="","",IF(AND(I14<>"",I14>=0.95),"⚠ ضغط أجور",IF(AND(J14<>"",K14<>"",ABS(K14/J14-1)>0.05),"◐ راجع فجوة الجنسين ("&TEXT(K14/J14-1,"+0%;-0%")&")","✔ لا ملاحظة")))
B15: =IF(A15="","",COUNTIF('بيانات الموظفين'!$B$8:$B$67,A15)) | C15: =IF(OR(A15="",B15=0),"",_xlfn.MINIFS('بيانات الموظفين'!$E$8:$E$67,'بيانات الموظفين'!$B$8:$B$67,A15)) | D15: =IF(OR(A15="",B15=0),"",_xlfn.MAXIFS('بيانات الموظفين'!$E$8:$E$67,'بيانات الموظفين'!$B$8:$B$67,A15)) | E15: =IF(OR(A15="",B15=0),"",AVERAGEIF('بيانات الموظفين'!$B$8:$B$67,A15,'بيانات الموظفين'!$E$8:$E$67)) | F15: =IF(C15="","",D15/C15-1) | G15: =IFERROR(AVERAGEIFS('بيانات الموظفين'!$E$8:$E$67,'بيانات الموظفين'!$B$8:$B$67,A15,'بيانات الموظفين'!$D$8:$D$67,"<"&'بيانات الموظفين'!$F$5),"") | H15: =IFERROR(AVERAGEIFS('بيانات الموظفين'!$E$8:$E$67,'بيانات الموظفين'!$B$8:$B$67,A15,'بيانات الموظفين'!$D$8:$D$67,">="&'بيانات الموظفين'!$D$5),"") | I15: =IF(OR(G15="",H15=""),"",G15/H15) | J15: =IFERROR(AVERAGEIFS('بيانات الموظفين'!$E$8:$E$67,'بيانات الموظفين'!$B$8:$B$67,A15,'بيانات الموظفين'!$C$8:$C$67,"ذكر"),"") | K15: =IFERROR(AVERAGEIFS('بيانات الموظفين'!$E$8:$E$67,'بيانات الموظفين'!$B$8:$B$67,A15,'بيانات الموظفين'!$C$8:$C$67,"أنثى"),"") | L15: =IF(A15="","",IF(AND(I15<>"",I15>=0.95),"⚠ ضغط أجور",IF(AND(J15<>"",K15<>"",ABS(K15/J15-1)>0.05),"◐ راجع فجوة الجنسين ("&TEXT(K15/J15-1,"+0%;-0%")&")","✔ لا ملاحظة")))
B16: =IF(A16="","",COUNTIF('بيانات الموظفين'!$B$8:$B$67,A16)) | C16: =IF(OR(A16="",B16=0),"",_xlfn.MINIFS('بيانات الموظفين'!$E$8:$E$67,'بيانات الموظفين'!$B$8:$B$67,A16)) | D16: =IF(OR(A16="",B16=0),"",_xlfn.MAXIFS('بيانات الموظفين'!$E$8:$E$67,'بيانات الموظفين'!$B$8:$B$67,A16)) | E16: =IF(OR(A16="",B16=0),"",AVERAGEIF('بيانات الموظفين'!$B$8:$B$67,A16,'بيانات الموظفين'!$E$8:$E$67)) | F16: =IF(C16="","",D16/C16-1) | G16: =IFERROR(AVERAGEIFS('بيانات الموظفين'!$E$8:$E$67,'بيانات الموظفين'!$B$8:$B$67,A16,'بيانات الموظفين'!$D$8:$D$67,"<"&'بيانات الموظفين'!$F$5),"") | H16: =IFERROR(AVERAGEIFS('بيانات الموظفين'!$E$8:$E$67,'بيانات الموظفين'!$B$8:$B$67,A16,'بيانات الموظفين'!$D$8:$D$67,">="&'بيانات الموظفين'!$D$5),"") | I16: =IF(OR(G16="",H16=""),"",G16/H16) | J16: =IFERROR(AVERAGEIFS('بيانات الموظفين'!$E$8:$E$67,'بيانات الموظفين'!$B$8:$B$67,A16,'بيانات الموظفين'!$C$8:$C$67,"ذكر"),"") | K16: =IFERROR(AVERAGEIFS('بيانات الموظفين'!$E$8:$E$67,'بيانات الموظفين'!$B$8:$B$67,A16,'بيانات الموظفين'!$C$8:$C$67,"أنثى"),"") | L16: =IF(A16="","",IF(AND(I16<>"",I16>=0.95),"⚠ ضغط أجور",IF(AND(J16<>"",K16<>"",ABS(K16/J16-1)>0.05),"◐ راجع فجوة الجنسين ("&TEXT(K16/J16-1,"+0%;-0%")&")","✔ لا ملاحظة")))
B17: =IF(A17="","",COUNTIF('بيانات الموظفين'!$B$8:$B$67,A17)) | C17: =IF(OR(A17="",B17=0),"",_xlfn.MINIFS('بيانات الموظفين'!$E$8:$E$67,'بيانات الموظفين'!$B$8:$B$67,A17)) | D17: =IF(OR(A17="",B17=0),"",_xlfn.MAXIFS('بيانات الموظفين'!$E$8:$E$67,'بيانات الموظفين'!$B$8:$B$67,A17)) | E17: =IF(OR(A17="",B17=0),"",AVERAGEIF('بيانات الموظفين'!$B$8:$B$67,A17,'بيانات الموظفين'!$E$8:$E$67)) | F17: =IF(C17="","",D17/C17-1) | G17: =IFERROR(AVERAGEIFS('بيانات الموظفين'!$E$8:$E$67,'بيانات الموظفين'!$B$8:$B$67,A17,'بيانات الموظفين'!$D$8:$D$67,"<"&'بيانات الموظفين'!$F$5),"") | H17: =IFERROR(AVERAGEIFS('بيانات الموظفين'!$E$8:$E$67,'بيانات الموظفين'!$B$8:$B$67,A17,'بيانات الموظفين'!$D$8:$D$67,">="&'بيانات الموظفين'!$D$5),"") | I17: =IF(OR(G17="",H17=""),"",G17/H17) | J17: =IFERROR(AVERAGEIFS('بيانات الموظفين'!$E$8:$E$67,'بيانات الموظفين'!$B$8:$B$67,A17,'بيانات الموظفين'!$C$8:$C$67,"ذكر"),"") | K17: =IFERROR(AVERAGEIFS('بيانات الموظفين'!$E$8:$E$67,'بيانات الموظفين'!$B$8:$B$67,A17,'بيانات الموظفين'!$C$8:$C$67,"أنثى"),"") | L17: =IF(A17="","",IF(AND(I17<>"",I17>=0.95),"⚠ ضغط أجور",IF(AND(J17<>"",K17<>"",ABS(K17/J17-1)>0.05),"◐ راجع فجوة الجنسين ("&TEXT(K17/J17-1,"+0%;-0%")&")","✔ لا ملاحظة")))
A19: لماذا يهم؟ ضغط الأجور يدفع أصحاب الخبرة للاستقالة عندما يكتشفون أن الجدد يتقاضون مثلهم. العلاج: مراجعة رواتب القدامى، أو زيادات مرتبطة بالأداء، أو تحديث هيكل الرواتب كله.
