Workbook

Sheet الإجابات
A1: nerp.sa — مقياس السلامة النفسية للفريق (Psychological Safety)
A2: إعداد: نايف العنزي | nerp.sa | linkedin.com/in/naifm1alanazi
A3: يعبئه أعضاء الفريق دون أسماء (اكتب رقمًا بدل الاسم). لكل عبارة: 1 لا أوافق أبدًا، إلى 5 أوافق تمامًا. العبارات المعلَّمة (عكسية) صيغتها سلبية، فتُعكس درجتها تلقائيًا في الحساب. العبارات من إعداد nerp.sa، والأرقام أمثلة لفريق من 6 أشخاص.
A5: # | B5: 1 | C5: 2 (عكسية) | D5: 3 | E5: 4 (عكسية) | F5: 5 | G5: 6 (عكسية) | H5: 7 | I5: 8 | J5: درجة المشارك | K5: المستوى
A6: 1 | B6: 4 | C6: 2 | D6: 5 | E6: 3 | F6: 4 | G6: 2 | H6: 4 | I6: 4 | J6: =IF(COUNT(B6:I6)<8,"",(B6+(6-C6)+D6+(6-E6)+F6+(6-G6)+H6+I6)/8) | K6: =IF(J6="","",IF(J6>=4,"✔ مرتفعة",IF(J6>=3,"◐ متوسطة","⚠ منخفضة")))
A7: 2 | B7: 3 | C7: 3 | D7: 4 | E7: 4 | F7: 3 | G7: 3 | H7: 4 | I7: 3 | J7: =IF(COUNT(B7:I7)<8,"",(B7+(6-C7)+D7+(6-E7)+F7+(6-G7)+H7+I7)/8) | K7: =IF(J7="","",IF(J7>=4,"✔ مرتفعة",IF(J7>=3,"◐ متوسطة","⚠ منخفضة")))
A8: 3 | B8: 5 | C8: 1 | D8: 5 | E8: 2 | F8: 4 | G8: 1 | H8: 5 | I8: 5 | J8: =IF(COUNT(B8:I8)<8,"",(B8+(6-C8)+D8+(6-E8)+F8+(6-G8)+H8+I8)/8) | K8: =IF(J8="","",IF(J8>=4,"✔ مرتفعة",IF(J8>=3,"◐ متوسطة","⚠ منخفضة")))
A9: 4 | B9: 2 | C9: 4 | D9: 3 | E9: 4 | F9: 3 | G9: 3 | H9: 3 | I9: 2 | J9: =IF(COUNT(B9:I9)<8,"",(B9+(6-C9)+D9+(6-E9)+F9+(6-G9)+H9+I9)/8) | K9: =IF(J9="","",IF(J9>=4,"✔ مرتفعة",IF(J9>=3,"◐ متوسطة","⚠ منخفضة")))
A10: 5 | B10: 4 | C10: 2 | D10: 4 | E10: 3 | F10: 4 | G10: 2 | H10: 4 | I10: 4 | J10: =IF(COUNT(B10:I10)<8,"",(B10+(6-C10)+D10+(6-E10)+F10+(6-G10)+H10+I10)/8) | K10: =IF(J10="","",IF(J10>=4,"✔ مرتفعة",IF(J10>=3,"◐ متوسطة","⚠ منخفضة")))
A11: 6 | B11: 3 | C11: 3 | D11: 4 | E11: 3 | F11: 3 | G11: 2 | H11: 4 | I11: 3 | J11: =IF(COUNT(B11:I11)<8,"",(B11+(6-C11)+D11+(6-E11)+F11+(6-G11)+H11+I11)/8) | K11: =IF(J11="","",IF(J11>=4,"✔ مرتفعة",IF(J11>=3,"◐ متوسطة","⚠ منخفضة")))
A12: 7 | J12: =IF(COUNT(B12:I12)<8,"",(B12+(6-C12)+D12+(6-E12)+F12+(6-G12)+H12+I12)/8) | K12: =IF(J12="","",IF(J12>=4,"✔ مرتفعة",IF(J12>=3,"◐ متوسطة","⚠ منخفضة")))
A13: 8 | J13: =IF(COUNT(B13:I13)<8,"",(B13+(6-C13)+D13+(6-E13)+F13+(6-G13)+H13+I13)/8) | K13: =IF(J13="","",IF(J13>=4,"✔ مرتفعة",IF(J13>=3,"◐ متوسطة","⚠ منخفضة")))
A14: 9 | J14: =IF(COUNT(B14:I14)<8,"",(B14+(6-C14)+D14+(6-E14)+F14+(6-G14)+H14+I14)/8) | K14: =IF(J14="","",IF(J14>=4,"✔ مرتفعة",IF(J14>=3,"◐ متوسطة","⚠ منخفضة")))
A15: 10 | J15: =IF(COUNT(B15:I15)<8,"",(B15+(6-C15)+D15+(6-E15)+F15+(6-G15)+H15+I15)/8) | K15: =IF(J15="","",IF(J15>=4,"✔ مرتفعة",IF(J15>=3,"◐ متوسطة","⚠ منخفضة")))
A16: 11 | J16: =IF(COUNT(B16:I16)<8,"",(B16+(6-C16)+D16+(6-E16)+F16+(6-G16)+H16+I16)/8) | K16: =IF(J16="","",IF(J16>=4,"✔ مرتفعة",IF(J16>=3,"◐ متوسطة","⚠ منخفضة")))
A17: 12 | J17: =IF(COUNT(B17:I17)<8,"",(B17+(6-C17)+D17+(6-E17)+F17+(6-G17)+H17+I17)/8) | K17: =IF(J17="","",IF(J17>=4,"✔ مرتفعة",IF(J17>=3,"◐ متوسطة","⚠ منخفضة")))
A18: 13 | J18: =IF(COUNT(B18:I18)<8,"",(B18+(6-C18)+D18+(6-E18)+F18+(6-G18)+H18+I18)/8) | K18: =IF(J18="","",IF(J18>=4,"✔ مرتفعة",IF(J18>=3,"◐ متوسطة","⚠ منخفضة")))
A19: 14 | J19: =IF(COUNT(B19:I19)<8,"",(B19+(6-C19)+D19+(6-E19)+F19+(6-G19)+H19+I19)/8) | K19: =IF(J19="","",IF(J19>=4,"✔ مرتفعة",IF(J19>=3,"◐ متوسطة","⚠ منخفضة")))
A20: 15 | J20: =IF(COUNT(B20:I20)<8,"",(B20+(6-C20)+D20+(6-E20)+F20+(6-G20)+H20+I20)/8) | K20: =IF(J20="","",IF(J20>=4,"✔ مرتفعة",IF(J20>=3,"◐ متوسطة","⚠ منخفضة")))
A21: 16 | J21: =IF(COUNT(B21:I21)<8,"",(B21+(6-C21)+D21+(6-E21)+F21+(6-G21)+H21+I21)/8) | K21: =IF(J21="","",IF(J21>=4,"✔ مرتفعة",IF(J21>=3,"◐ متوسطة","⚠ منخفضة")))
A22: 17 | J22: =IF(COUNT(B22:I22)<8,"",(B22+(6-C22)+D22+(6-E22)+F22+(6-G22)+H22+I22)/8) | K22: =IF(J22="","",IF(J22>=4,"✔ مرتفعة",IF(J22>=3,"◐ متوسطة","⚠ منخفضة")))
A23: 18 | J23: =IF(COUNT(B23:I23)<8,"",(B23+(6-C23)+D23+(6-E23)+F23+(6-G23)+H23+I23)/8) | K23: =IF(J23="","",IF(J23>=4,"✔ مرتفعة",IF(J23>=3,"◐ متوسطة","⚠ منخفضة")))
... A35: 30 | J35: =IF(COUNT(B35:I35)<8,"",(B35+(6-C35)+D35+(6-E35)+F35+(6-G35)+H35+I35)/8) | K35: =IF(J35="","",IF(J35>=4,"✔ مرتفعة",IF(J35>=3,"◐ متوسطة","⚠ منخفضة")))
A37: # | B37: العبارة
A38: 1 | B38: أستطيع أن أطرح مشكلة أو رأيًا مختلفًا في الفريق دون قلق
A39: 2 | B39: إذا أخطأت في هذا الفريق، غالبًا يُستخدم الخطأ ضدي ← عكسية
A40: 3 | B40: أطلب المساعدة من زملائي في الفريق بسهولة
A41: 4 | B41: يتجنب أعضاء الفريق تجربة أفكار جديدة خوفًا من الفشل ← عكسية
A42: 5 | B42: يُقدَّر في الفريق ما يملكه كل شخص من مهارات مختلفة
A43: 6 | B43: يحدث أن يُستبعد بعض الأعضاء لأنهم مختلفون عن غيرهم ← عكسية
A44: 7 | B44: لا أحد في الفريق يتعمد التقليل من جهودي
A45: 8 | B45: أستطيع الاعتراف بأني لا أعرف شيئًا دون أن أُحرج

Sheet النتيجة
A1: nerp.sa — نتيجة السلامة النفسية
A2: إعداد: نايف العنزي | nerp.sa | linkedin.com/in/naifm1alanazi
A3: متوسط كل عبارة بعد عكس العبارات السلبية (5 = أفضل دائمًا)، ونسبة الإجابات الإيجابية (4 أو 5 بعد العكس). ابدأ العمل من العبارات الأضعف.
A5: # | B5: العبارة | C5: المتوسط (بعد العكس) | D5: نسبة الإيجابيين | E5: القراءة
A6: 1 | B6: أستطيع أن أطرح مشكلة أو رأيًا مختلفًا في الفريق دون قلق | C6: =IFERROR(AVERAGE('الإجابات'!B6:B35),"") | D6: =IFERROR(COUNTIF('الإجابات'!B6:B35,">=4")/COUNT('الإجابات'!B6:B35),"") | E6: =IF(C6="","",IF(C6>=4,"✔ نقطة قوة",IF(C6>=3,"◐ تحتاج انتباهًا","⚠ أولوية للتحسين")))
A7: 2 | B7: إذا أخطأت في هذا الفريق، غالبًا يُستخدم الخطأ ضدي | C7: =IFERROR(6-AVERAGE('الإجابات'!C6:C35),"") | D7: =IFERROR(COUNTIF('الإجابات'!C6:C35,"<=2")/COUNT('الإجابات'!C6:C35),"") | E7: =IF(C7="","",IF(C7>=4,"✔ نقطة قوة",IF(C7>=3,"◐ تحتاج انتباهًا","⚠ أولوية للتحسين")))
A8: 3 | B8: أطلب المساعدة من زملائي في الفريق بسهولة | C8: =IFERROR(AVERAGE('الإجابات'!D6:D35),"") | D8: =IFERROR(COUNTIF('الإجابات'!D6:D35,">=4")/COUNT('الإجابات'!D6:D35),"") | E8: =IF(C8="","",IF(C8>=4,"✔ نقطة قوة",IF(C8>=3,"◐ تحتاج انتباهًا","⚠ أولوية للتحسين")))
A9: 4 | B9: يتجنب أعضاء الفريق تجربة أفكار جديدة خوفًا من الفشل | C9: =IFERROR(6-AVERAGE('الإجابات'!E6:E35),"") | D9: =IFERROR(COUNTIF('الإجابات'!E6:E35,"<=2")/COUNT('الإجابات'!E6:E35),"") | E9: =IF(C9="","",IF(C9>=4,"✔ نقطة قوة",IF(C9>=3,"◐ تحتاج انتباهًا","⚠ أولوية للتحسين")))
A10: 5 | B10: يُقدَّر في الفريق ما يملكه كل شخص من مهارات مختلفة | C10: =IFERROR(AVERAGE('الإجابات'!F6:F35),"") | D10: =IFERROR(COUNTIF('الإجابات'!F6:F35,">=4")/COUNT('الإجابات'!F6:F35),"") | E10: =IF(C10="","",IF(C10>=4,"✔ نقطة قوة",IF(C10>=3,"◐ تحتاج انتباهًا","⚠ أولوية للتحسين")))
A11: 6 | B11: يحدث أن يُستبعد بعض الأعضاء لأنهم مختلفون عن غيرهم | C11: =IFERROR(6-AVERAGE('الإجابات'!G6:G35),"") | D11: =IFERROR(COUNTIF('الإجابات'!G6:G35,"<=2")/COUNT('الإجابات'!G6:G35),"") | E11: =IF(C11="","",IF(C11>=4,"✔ نقطة قوة",IF(C11>=3,"◐ تحتاج انتباهًا","⚠ أولوية للتحسين")))
A12: 7 | B12: لا أحد في الفريق يتعمد التقليل من جهودي | C12: =IFERROR(AVERAGE('الإجابات'!H6:H35),"") | D12: =IFERROR(COUNTIF('الإجابات'!H6:H35,">=4")/COUNT('الإجابات'!H6:H35),"") | E12: =IF(C12="","",IF(C12>=4,"✔ نقطة قوة",IF(C12>=3,"◐ تحتاج انتباهًا","⚠ أولوية للتحسين")))
A13: 8 | B13: أستطيع الاعتراف بأني لا أعرف شيئًا دون أن أُحرج | C13: =IFERROR(AVERAGE('الإجابات'!I6:I35),"") | D13: =IFERROR(COUNTIF('الإجابات'!I6:I35,">=4")/COUNT('الإجابات'!I6:I35),"") | E13: =IF(C13="","",IF(C13>=4,"✔ نقطة قوة",IF(C13>=3,"◐ تحتاج انتباهًا","⚠ أولوية للتحسين")))
B15: درجة السلامة النفسية للفريق (من 5) | C15: =IFERROR(AVERAGE('الإجابات'!J6:J35),"") | E15: =IF(C15="","",IF(C15>=4,"✔ مرتفعة",IF(C15>=3,"◐ متوسطة","⚠ منخفضة")))
B16: عدد المشاركين | C16: =COUNT('الإجابات'!J6:J35)
B17: أضعف عبارة | C17: =IFERROR(INDEX(B6:B13,MATCH(MIN(C6:C13),C6:C13,0)),"")
A19: السلامة النفسية: شعور الموظف بالأمان لمشاركة أفكاره وأخطائه وأسئلته دون خوف من العقاب أو السخرية. هي أساس التعلم والابتكار في الفرق. النتيجة تصف الفريق لا الأفراد، فلا تُستخدم لتقييم أداء أي شخص، واعرضها على الفريق وناقشوا العبارات الأضعف معًا.
