Workbook

Sheet Sheet

Sheet مصفوفة الكفاءات
A1: nerp.sa — تحليل الاحتياجات التدريبية (مصفوفة الكفاءات)
A2: إعداد: نايف العنزي | nerp.sa | linkedin.com/in/naifm1alanazi
A3: الصف الذهبي الأول: اسم الكفاءة. الثاني: الأهمية للعمل (1 منخفضة – 3 حرجة). الثالث: المستوى المطلوب (1–4). ثم لكل موظف اكتب مستواه الحالي (1 مبتدئ، 2 أساسي، 3 متمكن، 4 خبير). الخانة الحمراء تعني وجود فجوة. الأرقام أمثلة لفريق مبيعات.
A5: الفريق / الإدارة | B5: فريق المبيعات
A7: الكفاءة | B7: خدمة العملاء | C7: التواصل الفعال | D7: استخدام نظام CRM | E7: التفاوض والإقناع | F7: تحليل البيانات (Excel) | G7: إدارة الوقت
A8: الأهمية (1–3) | B8: 3 | C8: 2 | D8: 3 | E8: 3 | F8: 2 | G8: 2
A9: المستوى المطلوب (1–4) | B9: 4 | C9: 4 | D9: 3 | E9: 3 | F9: 3 | G9: 3
A11: الموظف | B11: =B7 | C11: =C7 | D11: =D7 | E11: =E7 | F11: =F7 | G11: =G7 | H11: =H7 | I11: =I7 | ... K11: =K7 | L11: مجموع الفجوات | M11: أولوية تطوير الموظف
A12: موظف 1 | B12: 3 | C12: 4 | D12: 2 | E12: 2 | F12: 1 | G12: 3 | L12: =IF(A12="","",IF(AND(ISNUMBER(B12),ISNUMBER(B$9)),MAX(0,B$9-B12),0)+IF(AND(ISNUMBER(C12),ISNUMBER(C$9)),MAX(0,C$9-C12),0)+IF(AND(ISNUMBER(D12),ISNUMBER(D$9)),MAX(0,D$9-D12),0)+IF(AND(ISNUMBER(E12),ISNUMBER(E$9)),MAX(0,E$9-E12),0)+IF(AND(ISNUMBER(F12),ISNUMBER(F$9)),MAX(0,F$9-F12),0)+IF(AND(ISNUMBER(G12),ISNUMBER(G$9)),MAX(0,G$9-G12),0)+IF(AND(ISNUMBER(H12),ISNUMBER(H$9)),MAX(0,H$9-H12),0)+IF(AND(ISNUMBER(I12),ISNUMBER(I$9)),MAX(0,I$9-I12),0)+IF(AND(ISNUMBER(J12),ISNUMBER(J$9)),MAX(0,J$9-J12),0)+IF(AND(ISNUMBER(K12),ISNUMBER(K$9)),MAX(0,K$9-K12),0)) | M12: =IF(L12="","",IF(L12>=5,"⚠ مرتفعة",IF(L12>=3,"◐ متوسطة","✔ منخفضة")))
A13: موظف 2 | B13: 4 | C13: 3 | D13: 3 | E13: 3 | F13: 2 | G13: 3 | L13: =IF(A13="","",IF(AND(ISNUMBER(B13),ISNUMBER(B$9)),MAX(0,B$9-B13),0)+IF(AND(ISNUMBER(C13),ISNUMBER(C$9)),MAX(0,C$9-C13),0)+IF(AND(ISNUMBER(D13),ISNUMBER(D$9)),MAX(0,D$9-D13),0)+IF(AND(ISNUMBER(E13),ISNUMBER(E$9)),MAX(0,E$9-E13),0)+IF(AND(ISNUMBER(F13),ISNUMBER(F$9)),MAX(0,F$9-F13),0)+IF(AND(ISNUMBER(G13),ISNUMBER(G$9)),MAX(0,G$9-G13),0)+IF(AND(ISNUMBER(H13),ISNUMBER(H$9)),MAX(0,H$9-H13),0)+IF(AND(ISNUMBER(I13),ISNUMBER(I$9)),MAX(0,I$9-I13),0)+IF(AND(ISNUMBER(J13),ISNUMBER(J$9)),MAX(0,J$9-J13),0)+IF(AND(ISNUMBER(K13),ISNUMBER(K$9)),MAX(0,K$9-K13),0)) | M13: =IF(L13="","",IF(L13>=5,"⚠ مرتفعة",IF(L13>=3,"◐ متوسطة","✔ منخفضة")))
A14: موظف 3 | B14: 2 | C14: 2 | D14: 1 | E14: 2 | F14: 2 | G14: 3 | L14: =IF(A14="","",IF(AND(ISNUMBER(B14),ISNUMBER(B$9)),MAX(0,B$9-B14),0)+IF(AND(ISNUMBER(C14),ISNUMBER(C$9)),MAX(0,C$9-C14),0)+IF(AND(ISNUMBER(D14),ISNUMBER(D$9)),MAX(0,D$9-D14),0)+IF(AND(ISNUMBER(E14),ISNUMBER(E$9)),MAX(0,E$9-E14),0)+IF(AND(ISNUMBER(F14),ISNUMBER(F$9)),MAX(0,F$9-F14),0)+IF(AND(ISNUMBER(G14),ISNUMBER(G$9)),MAX(0,G$9-G14),0)+IF(AND(ISNUMBER(H14),ISNUMBER(H$9)),MAX(0,H$9-H14),0)+IF(AND(ISNUMBER(I14),ISNUMBER(I$9)),MAX(0,I$9-I14),0)+IF(AND(ISNUMBER(J14),ISNUMBER(J$9)),MAX(0,J$9-J14),0)+IF(AND(ISNUMBER(K14),ISNUMBER(K$9)),MAX(0,K$9-K14),0)) | M14: =IF(L14="","",IF(L14>=5,"⚠ مرتفعة",IF(L14>=3,"◐ متوسطة","✔ منخفضة")))
A15: موظف 4 | B15: 4 | C15: 4 | D15: 3 | E15: 2 | F15: 1 | G15: 2 | L15: =IF(A15="","",IF(AND(ISNUMBER(B15),ISNUMBER(B$9)),MAX(0,B$9-B15),0)+IF(AND(ISNUMBER(C15),ISNUMBER(C$9)),MAX(0,C$9-C15),0)+IF(AND(ISNUMBER(D15),ISNUMBER(D$9)),MAX(0,D$9-D15),0)+IF(AND(ISNUMBER(E15),ISNUMBER(E$9)),MAX(0,E$9-E15),0)+IF(AND(ISNUMBER(F15),ISNUMBER(F$9)),MAX(0,F$9-F15),0)+IF(AND(ISNUMBER(G15),ISNUMBER(G$9)),MAX(0,G$9-G15),0)+IF(AND(ISNUMBER(H15),ISNUMBER(H$9)),MAX(0,H$9-H15),0)+IF(AND(ISNUMBER(I15),ISNUMBER(I$9)),MAX(0,I$9-I15),0)+IF(AND(ISNUMBER(J15),ISNUMBER(J$9)),MAX(0,J$9-J15),0)+IF(AND(ISNUMBER(K15),ISNUMBER(K$9)),MAX(0,K$9-K15),0)) | M15: =IF(L15="","",IF(L15>=5,"⚠ مرتفعة",IF(L15>=3,"◐ متوسطة","✔ منخفضة")))
A16: موظف 5 | B16: 3 | C16: 2 | D16: 2 | E16: 3 | F16: 3 | G16: 3 | L16: =IF(A16="","",IF(AND(ISNUMBER(B16),ISNUMBER(B$9)),MAX(0,B$9-B16),0)+IF(AND(ISNUMBER(C16),ISNUMBER(C$9)),MAX(0,C$9-C16),0)+IF(AND(ISNUMBER(D16),ISNUMBER(D$9)),MAX(0,D$9-D16),0)+IF(AND(ISNUMBER(E16),ISNUMBER(E$9)),MAX(0,E$9-E16),0)+IF(AND(ISNUMBER(F16),ISNUMBER(F$9)),MAX(0,F$9-F16),0)+IF(AND(ISNUMBER(G16),ISNUMBER(G$9)),MAX(0,G$9-G16),0)+IF(AND(ISNUMBER(H16),ISNUMBER(H$9)),MAX(0,H$9-H16),0)+IF(AND(ISNUMBER(I16),ISNUMBER(I$9)),MAX(0,I$9-I16),0)+IF(AND(ISNUMBER(J16),ISNUMBER(J$9)),MAX(0,J$9-J16),0)+IF(AND(ISNUMBER(K16),ISNUMBER(K$9)),MAX(0,K$9-K16),0)) | M16: =IF(L16="","",IF(L16>=5,"⚠ مرتفعة",IF(L16>=3,"◐ متوسطة","✔ منخفضة")))
A17: موظف 6 | B17: 2 | C17: 3 | D17: 1 | E17: 1 | F17: 2 | G17: 3 | L17: =IF(A17="","",IF(AND(ISNUMBER(B17),ISNUMBER(B$9)),MAX(0,B$9-B17),0)+IF(AND(ISNUMBER(C17),ISNUMBER(C$9)),MAX(0,C$9-C17),0)+IF(AND(ISNUMBER(D17),ISNUMBER(D$9)),MAX(0,D$9-D17),0)+IF(AND(ISNUMBER(E17),ISNUMBER(E$9)),MAX(0,E$9-E17),0)+IF(AND(ISNUMBER(F17),ISNUMBER(F$9)),MAX(0,F$9-F17),0)+IF(AND(ISNUMBER(G17),ISNUMBER(G$9)),MAX(0,G$9-G17),0)+IF(AND(ISNUMBER(H17),ISNUMBER(H$9)),MAX(0,H$9-H17),0)+IF(AND(ISNUMBER(I17),ISNUMBER(I$9)),MAX(0,I$9-I17),0)+IF(AND(ISNUMBER(J17),ISNUMBER(J$9)),MAX(0,J$9-J17),0)+IF(AND(ISNUMBER(K17),ISNUMBER(K$9)),MAX(0,K$9-K17),0)) | M17: =IF(L17="","",IF(L17>=5,"⚠ مرتفعة",IF(L17>=3,"◐ متوسطة","✔ منخفضة")))
L18: =IF(A18="","",IF(AND(ISNUMBER(B18),ISNUMBER(B$9)),MAX(0,B$9-B18),0)+IF(AND(ISNUMBER(C18),ISNUMBER(C$9)),MAX(0,C$9-C18),0)+IF(AND(ISNUMBER(D18),ISNUMBER(D$9)),MAX(0,D$9-D18),0)+IF(AND(ISNUMBER(E18),ISNUMBER(E$9)),MAX(0,E$9-E18),0)+IF(AND(ISNUMBER(F18),ISNUMBER(F$9)),MAX(0,F$9-F18),0)+IF(AND(ISNUMBER(G18),ISNUMBER(G$9)),MAX(0,G$9-G18),0)+IF(AND(ISNUMBER(H18),ISNUMBER(H$9)),MAX(0,H$9-H18),0)+IF(AND(ISNUMBER(I18),ISNUMBER(I$9)),MAX(0,I$9-I18),0)+IF(AND(ISNUMBER(J18),ISNUMBER(J$9)),MAX(0,J$9-J18),0)+IF(AND(ISNUMBER(K18),ISNUMBER(K$9)),MAX(0,K$9-K18),0)) | M18: =IF(L18="","",IF(L18>=5,"⚠ مرتفعة",IF(L18>=3,"◐ متوسطة","✔ منخفضة")))
L19: =IF(A19="","",IF(AND(ISNUMBER(B19),ISNUMBER(B$9)),MAX(0,B$9-B19),0)+IF(AND(ISNUMBER(C19),ISNUMBER(C$9)),MAX(0,C$9-C19),0)+IF(AND(ISNUMBER(D19),ISNUMBER(D$9)),MAX(0,D$9-D19),0)+IF(AND(ISNUMBER(E19),ISNUMBER(E$9)),MAX(0,E$9-E19),0)+IF(AND(ISNUMBER(F19),ISNUMBER(F$9)),MAX(0,F$9-F19),0)+IF(AND(ISNUMBER(G19),ISNUMBER(G$9)),MAX(0,G$9-G19),0)+IF(AND(ISNUMBER(H19),ISNUMBER(H$9)),MAX(0,H$9-H19),0)+IF(AND(ISNUMBER(I19),ISNUMBER(I$9)),MAX(0,I$9-I19),0)+IF(AND(ISNUMBER(J19),ISNUMBER(J$9)),MAX(0,J$9-J19),0)+IF(AND(ISNUMBER(K19),ISNUMBER(K$9)),MAX(0,K$9-K19),0)) | M19: =IF(L19="","",IF(L19>=5,"⚠ مرتفعة",IF(L19>=3,"◐ متوسطة","✔ منخفضة")))
L20: =IF(A20="","",IF(AND(ISNUMBER(B20),ISNUMBER(B$9)),MAX(0,B$9-B20),0)+IF(AND(ISNUMBER(C20),ISNUMBER(C$9)),MAX(0,C$9-C20),0)+IF(AND(ISNUMBER(D20),ISNUMBER(D$9)),MAX(0,D$9-D20),0)+IF(AND(ISNUMBER(E20),ISNUMBER(E$9)),MAX(0,E$9-E20),0)+IF(AND(ISNUMBER(F20),ISNUMBER(F$9)),MAX(0,F$9-F20),0)+IF(AND(ISNUMBER(G20),ISNUMBER(G$9)),MAX(0,G$9-G20),0)+IF(AND(ISNUMBER(H20),ISNUMBER(H$9)),MAX(0,H$9-H20),0)+IF(AND(ISNUMBER(I20),ISNUMBER(I$9)),MAX(0,I$9-I20),0)+IF(AND(ISNUMBER(J20),ISNUMBER(J$9)),MAX(0,J$9-J20),0)+IF(AND(ISNUMBER(K20),ISNUMBER(K$9)),MAX(0,K$9-K20),0)) | M20: =IF(L20="","",IF(L20>=5,"⚠ مرتفعة",IF(L20>=3,"◐ متوسطة","✔ منخفضة")))
L21: =IF(A21="","",IF(AND(ISNUMBER(B21),ISNUMBER(B$9)),MAX(0,B$9-B21),0)+IF(AND(ISNUMBER(C21),ISNUMBER(C$9)),MAX(0,C$9-C21),0)+IF(AND(ISNUMBER(D21),ISNUMBER(D$9)),MAX(0,D$9-D21),0)+IF(AND(ISNUMBER(E21),ISNUMBER(E$9)),MAX(0,E$9-E21),0)+IF(AND(ISNUMBER(F21),ISNUMBER(F$9)),MAX(0,F$9-F21),0)+IF(AND(ISNUMBER(G21),ISNUMBER(G$9)),MAX(0,G$9-G21),0)+IF(AND(ISNUMBER(H21),ISNUMBER(H$9)),MAX(0,H$9-H21),0)+IF(AND(ISNUMBER(I21),ISNUMBER(I$9)),MAX(0,I$9-I21),0)+IF(AND(ISNUMBER(J21),ISNUMBER(J$9)),MAX(0,J$9-J21),0)+IF(AND(ISNUMBER(K21),ISNUMBER(K$9)),MAX(0,K$9-K21),0)) | M21: =IF(L21="","",IF(L21>=5,"⚠ مرتفعة",IF(L21>=3,"◐ متوسطة","✔ منخفضة")))
L22: =IF(A22="","",IF(AND(ISNUMBER(B22),ISNUMBER(B$9)),MAX(0,B$9-B22),0)+IF(AND(ISNUMBER(C22),ISNUMBER(C$9)),MAX(0,C$9-C22),0)+IF(AND(ISNUMBER(D22),ISNUMBER(D$9)),MAX(0,D$9-D22),0)+IF(AND(ISNUMBER(E22),ISNUMBER(E$9)),MAX(0,E$9-E22),0)+IF(AND(ISNUMBER(F22),ISNUMBER(F$9)),MAX(0,F$9-F22),0)+IF(AND(ISNUMBER(G22),ISNUMBER(G$9)),MAX(0,G$9-G22),0)+IF(AND(ISNUMBER(H22),ISNUMBER(H$9)),MAX(0,H$9-H22),0)+IF(AND(ISNUMBER(I22),ISNUMBER(I$9)),MAX(0,I$9-I22),0)+IF(AND(ISNUMBER(J22),ISNUMBER(J$9)),MAX(0,J$9-J22),0)+IF(AND(ISNUMBER(K22),ISNUMBER(K$9)),MAX(0,K$9-K22),0)) | M22: =IF(L22="","",IF(L22>=5,"⚠ مرتفعة",IF(L22>=3,"◐ متوسطة","✔ منخفضة")))
L23: =IF(A23="","",IF(AND(ISNUMBER(B23),ISNUMBER(B$9)),MAX(0,B$9-B23),0)+IF(AND(ISNUMBER(C23),ISNUMBER(C$9)),MAX(0,C$9-C23),0)+IF(AND(ISNUMBER(D23),ISNUMBER(D$9)),MAX(0,D$9-D23),0)+IF(AND(ISNUMBER(E23),ISNUMBER(E$9)),MAX(0,E$9-E23),0)+IF(AND(ISNUMBER(F23),ISNUMBER(F$9)),MAX(0,F$9-F23),0)+IF(AND(ISNUMBER(G23),ISNUMBER(G$9)),MAX(0,G$9-G23),0)+IF(AND(ISNUMBER(H23),ISNUMBER(H$9)),MAX(0,H$9-H23),0)+IF(AND(ISNUMBER(I23),ISNUMBER(I$9)),MAX(0,I$9-I23),0)+IF(AND(ISNUMBER(J23),ISNUMBER(J$9)),MAX(0,J$9-J23),0)+IF(AND(ISNUMBER(K23),ISNUMBER(K$9)),MAX(0,K$9-K23),0)) | M23: =IF(L23="","",IF(L23>=5,"⚠ مرتفعة",IF(L23>=3,"◐ متوسطة","✔ منخفضة")))
L24: =IF(A24="","",IF(AND(ISNUMBER(B24),ISNUMBER(B$9)),MAX(0,B$9-B24),0)+IF(AND(ISNUMBER(C24),ISNUMBER(C$9)),MAX(0,C$9-C24),0)+IF(AND(ISNUMBER(D24),ISNUMBER(D$9)),MAX(0,D$9-D24),0)+IF(AND(ISNUMBER(E24),ISNUMBER(E$9)),MAX(0,E$9-E24),0)+IF(AND(ISNUMBER(F24),ISNUMBER(F$9)),MAX(0,F$9-F24),0)+IF(AND(ISNUMBER(G24),ISNUMBER(G$9)),MAX(0,G$9-G24),0)+IF(AND(ISNUMBER(H24),ISNUMBER(H$9)),MAX(0,H$9-H24),0)+IF(AND(ISNUMBER(I24),ISNUMBER(I$9)),MAX(0,I$9-I24),0)+IF(AND(ISNUMBER(J24),ISNUMBER(J$9)),MAX(0,J$9-J24),0)+IF(AND(ISNUMBER(K24),ISNUMBER(K$9)),MAX(0,K$9-K24),0)) | M24: =IF(L24="","",IF(L24>=5,"⚠ مرتفعة",IF(L24>=3,"◐ متوسطة","✔ منخفضة")))
L25: =IF(A25="","",IF(AND(ISNUMBER(B25),ISNUMBER(B$9)),MAX(0,B$9-B25),0)+IF(AND(ISNUMBER(C25),ISNUMBER(C$9)),MAX(0,C$9-C25),0)+IF(AND(ISNUMBER(D25),ISNUMBER(D$9)),MAX(0,D$9-D25),0)+IF(AND(ISNUMBER(E25),ISNUMBER(E$9)),MAX(0,E$9-E25),0)+IF(AND(ISNUMBER(F25),ISNUMBER(F$9)),MAX(0,F$9-F25),0)+IF(AND(ISNUMBER(G25),ISNUMBER(G$9)),MAX(0,G$9-G25),0)+IF(AND(ISNUMBER(H25),ISNUMBER(H$9)),MAX(0,H$9-H25),0)+IF(AND(ISNUMBER(I25),ISNUMBER(I$9)),MAX(0,I$9-I25),0)+IF(AND(ISNUMBER(J25),ISNUMBER(J$9)),MAX(0,J$9-J25),0)+IF(AND(ISNUMBER(K25),ISNUMBER(K$9)),MAX(0,K$9-K25),0)) | M25: =IF(L25="","",IF(L25>=5,"⚠ مرتفعة",IF(L25>=3,"◐ متوسطة","✔ منخفضة")))
L26: =IF(A26="","",IF(AND(ISNUMBER(B26),ISNUMBER(B$9)),MAX(0,B$9-B26),0)+IF(AND(ISNUMBER(C26),ISNUMBER(C$9)),MAX(0,C$9-C26),0)+IF(AND(ISNUMBER(D26),ISNUMBER(D$9)),MAX(0,D$9-D26),0)+IF(AND(ISNUMBER(E26),ISNUMBER(E$9)),MAX(0,E$9-E26),0)+IF(AND(ISNUMBER(F26),ISNUMBER(F$9)),MAX(0,F$9-F26),0)+IF(AND(ISNUMBER(G26),ISNUMBER(G$9)),MAX(0,G$9-G26),0)+IF(AND(ISNUMBER(H26),ISNUMBER(H$9)),MAX(0,H$9-H26),0)+IF(AND(ISNUMBER(I26),ISNUMBER(I$9)),MAX(0,I$9-I26),0)+IF(AND(ISNUMBER(J26),ISNUMBER(J$9)),MAX(0,J$9-J26),0)+IF(AND(ISNUMBER(K26),ISNUMBER(K$9)),MAX(0,K$9-K26),0)) | M26: =IF(L26="","",IF(L26>=5,"⚠ مرتفعة",IF(L26>=3,"◐ متوسطة","✔ منخفضة")))
L27: =IF(A27="","",IF(AND(ISNUMBER(B27),ISNUMBER(B$9)),MAX(0,B$9-B27),0)+IF(AND(ISNUMBER(C27),ISNUMBER(C$9)),MAX(0,C$9-C27),0)+IF(AND(ISNUMBER(D27),ISNUMBER(D$9)),MAX(0,D$9-D27),0)+IF(AND(ISNUMBER(E27),ISNUMBER(E$9)),MAX(0,E$9-E27),0)+IF(AND(ISNUMBER(F27),ISNUMBER(F$9)),MAX(0,F$9-F27),0)+IF(AND(ISNUMBER(G27),ISNUMBER(G$9)),MAX(0,G$9-G27),0)+IF(AND(ISNUMBER(H27),ISNUMBER(H$9)),MAX(0,H$9-H27),0)+IF(AND(ISNUMBER(I27),ISNUMBER(I$9)),MAX(0,I$9-I27),0)+IF(AND(ISNUMBER(J27),ISNUMBER(J$9)),MAX(0,J$9-J27),0)+IF(AND(ISNUMBER(K27),ISNUMBER(K$9)),MAX(0,K$9-K27),0)) | M27: =IF(L27="","",IF(L27>=5,"⚠ مرتفعة",IF(L27>=3,"◐ متوسطة","✔ منخفضة")))
L28: =IF(A28="","",IF(AND(ISNUMBER(B28),ISNUMBER(B$9)),MAX(0,B$9-B28),0)+IF(AND(ISNUMBER(C28),ISNUMBER(C$9)),MAX(0,C$9-C28),0)+IF(AND(ISNUMBER(D28),ISNUMBER(D$9)),MAX(0,D$9-D28),0)+IF(AND(ISNUMBER(E28),ISNUMBER(E$9)),MAX(0,E$9-E28),0)+IF(AND(ISNUMBER(F28),ISNUMBER(F$9)),MAX(0,F$9-F28),0)+IF(AND(ISNUMBER(G28),ISNUMBER(G$9)),MAX(0,G$9-G28),0)+IF(AND(ISNUMBER(H28),ISNUMBER(H$9)),MAX(0,H$9-H28),0)+IF(AND(ISNUMBER(I28),ISNUMBER(I$9)),MAX(0,I$9-I28),0)+IF(AND(ISNUMBER(J28),ISNUMBER(J$9)),MAX(0,J$9-J28),0)+IF(AND(ISNUMBER(K28),ISNUMBER(K$9)),MAX(0,K$9-K28),0)) | M28: =IF(L28="","",IF(L28>=5,"⚠ مرتفعة",IF(L28>=3,"◐ متوسطة","✔ منخفضة")))
L29: =IF(A29="","",IF(AND(ISNUMBER(B29),ISNUMBER(B$9)),MAX(0,B$9-B29),0)+IF(AND(ISNUMBER(C29),ISNUMBER(C$9)),MAX(0,C$9-C29),0)+IF(AND(ISNUMBER(D29),ISNUMBER(D$9)),MAX(0,D$9-D29),0)+IF(AND(ISNUMBER(E29),ISNUMBER(E$9)),MAX(0,E$9-E29),0)+IF(AND(ISNUMBER(F29),ISNUMBER(F$9)),MAX(0,F$9-F29),0)+IF(AND(ISNUMBER(G29),ISNUMBER(G$9)),MAX(0,G$9-G29),0)+IF(AND(ISNUMBER(H29),ISNUMBER(H$9)),MAX(0,H$9-H29),0)+IF(AND(ISNUMBER(I29),ISNUMBER(I$9)),MAX(0,I$9-I29),0)+IF(AND(ISNUMBER(J29),ISNUMBER(J$9)),MAX(0,J$9-J29),0)+IF(AND(ISNUMBER(K29),ISNUMBER(K$9)),MAX(0,K$9-K29),0)) | M29: =IF(L29="","",IF(L29>=5,"⚠ مرتفعة",IF(L29>=3,"◐ متوسطة","✔ منخفضة")))
... L36: =IF(A36="","",IF(AND(ISNUMBER(B36),ISNUMBER(B$9)),MAX(0,B$9-B36),0)+IF(AND(ISNUMBER(C36),ISNUMBER(C$9)),MAX(0,C$9-C36),0)+IF(AND(ISNUMBER(D36),ISNUMBER(D$9)),MAX(0,D$9-D36),0)+IF(AND(ISNUMBER(E36),ISNUMBER(E$9)),MAX(0,E$9-E36),0)+IF(AND(ISNUMBER(F36),ISNUMBER(F$9)),MAX(0,F$9-F36),0)+IF(AND(ISNUMBER(G36),ISNUMBER(G$9)),MAX(0,G$9-G36),0)+IF(AND(ISNUMBER(H36),ISNUMBER(H$9)),MAX(0,H$9-H36),0)+IF(AND(ISNUMBER(I36),ISNUMBER(I$9)),MAX(0,I$9-I36),0)+IF(AND(ISNUMBER(J36),ISNUMBER(J$9)),MAX(0,J$9-J36),0)+IF(AND(ISNUMBER(K36),ISNUMBER(K$9)),MAX(0,K$9-K36),0)) | M36: =IF(L36="","",IF(L36>=5,"⚠ مرتفعة",IF(L36>=3,"◐ متوسطة","✔ منخفضة")))

Sheet أولويات التدريب
A1: nerp.sa — أولويات التدريب
A2: إعداد: نايف العنزي | nerp.sa | linkedin.com/in/naifm1alanazi
A3: تُحسب تلقائيًا من مصفوفة الكفاءات. درجة الأولوية = الأهمية × متوسط الفجوة × نسبة الموظفين الذين لديهم فجوة. ابدأ بالكفاءة ذات الترتيب 1.
A5: الكفاءة | B5: الأهمية | C5: المستوى المطلوب | D5: عدد من لديهم فجوة | E5: نسبتهم من الفريق | F5: متوسط الفجوة | G5: درجة الأولوية | H5: الترتيب والقرار
A6: =IF('مصفوفة الكفاءات'!B7="","",'مصفوفة الكفاءات'!B7) | B6: =IF(A6="","",'مصفوفة الكفاءات'!B8) | C6: =IF(A6="","",'مصفوفة الكفاءات'!B9) | D6: =IF(A6="","",COUNTIF('مصفوفة الكفاءات'!B$12:B$36,"<"&C6)) | E6: =IF(OR(A6="",COUNT('مصفوفة الكفاءات'!B$12:B$36)=0),"",D6/COUNT('مصفوفة الكفاءات'!B$12:B$36)) | F6: =IF(OR(A6="",COUNT('مصفوفة الكفاءات'!B$12:B$36)=0),"",SUMPRODUCT(('مصفوفة الكفاءات'!B$12:B$36<C6)*(ISNUMBER('مصفوفة الكفاءات'!B$12:B$36))*(C6-'مصفوفة الكفاءات'!B$12:B$36))/MAX(1,D6)) | G6: =IF(OR(A6="",E6=""),"",B6*F6*E6) | H6: =IF(OR(G6="",G6=0),IF(A6="","","✔ لا توجد فجوة"),RANK(G6,$G$6:$G$15)&IF(E6>=0.5," ⚠ برنامج جماعي للفريق"," ◐ تطوير فردي (كوتشينج أو مهام)"))
A7: =IF('مصفوفة الكفاءات'!C7="","",'مصفوفة الكفاءات'!C7) | B7: =IF(A7="","",'مصفوفة الكفاءات'!C8) | C7: =IF(A7="","",'مصفوفة الكفاءات'!C9) | D7: =IF(A7="","",COUNTIF('مصفوفة الكفاءات'!C$12:C$36,"<"&C7)) | E7: =IF(OR(A7="",COUNT('مصفوفة الكفاءات'!C$12:C$36)=0),"",D7/COUNT('مصفوفة الكفاءات'!C$12:C$36)) | F7: =IF(OR(A7="",COUNT('مصفوفة الكفاءات'!C$12:C$36)=0),"",SUMPRODUCT(('مصفوفة الكفاءات'!C$12:C$36<C7)*(ISNUMBER('مصفوفة الكفاءات'!C$12:C$36))*(C7-'مصفوفة الكفاءات'!C$12:C$36))/MAX(1,D7)) | G7: =IF(OR(A7="",E7=""),"",B7*F7*E7) | H7: =IF(OR(G7="",G7=0),IF(A7="","","✔ لا توجد فجوة"),RANK(G7,$G$6:$G$15)&IF(E7>=0.5," ⚠ برنامج جماعي للفريق"," ◐ تطوير فردي (كوتشينج أو مهام)"))
A8: =IF('مصفوفة الكفاءات'!D7="","",'مصفوفة الكفاءات'!D7) | B8: =IF(A8="","",'مصفوفة الكفاءات'!D8) | C8: =IF(A8="","",'مصفوفة الكفاءات'!D9) | D8: =IF(A8="","",COUNTIF('مصفوفة الكفاءات'!D$12:D$36,"<"&C8)) | E8: =IF(OR(A8="",COUNT('مصفوفة الكفاءات'!D$12:D$36)=0),"",D8/COUNT('مصفوفة الكفاءات'!D$12:D$36)) | F8: =IF(OR(A8="",COUNT('مصفوفة الكفاءات'!D$12:D$36)=0),"",SUMPRODUCT(('مصفوفة الكفاءات'!D$12:D$36<C8)*(ISNUMBER('مصفوفة الكفاءات'!D$12:D$36))*(C8-'مصفوفة الكفاءات'!D$12:D$36))/MAX(1,D8)) | G8: =IF(OR(A8="",E8=""),"",B8*F8*E8) | H8: =IF(OR(G8="",G8=0),IF(A8="","","✔ لا توجد فجوة"),RANK(G8,$G$6:$G$15)&IF(E8>=0.5," ⚠ برنامج جماعي للفريق"," ◐ تطوير فردي (كوتشينج أو مهام)"))
A9: =IF('مصفوفة الكفاءات'!E7="","",'مصفوفة الكفاءات'!E7) | B9: =IF(A9="","",'مصفوفة الكفاءات'!E8) | C9: =IF(A9="","",'مصفوفة الكفاءات'!E9) | D9: =IF(A9="","",COUNTIF('مصفوفة الكفاءات'!E$12:E$36,"<"&C9)) | E9: =IF(OR(A9="",COUNT('مصفوفة الكفاءات'!E$12:E$36)=0),"",D9/COUNT('مصفوفة الكفاءات'!E$12:E$36)) | F9: =IF(OR(A9="",COUNT('مصفوفة الكفاءات'!E$12:E$36)=0),"",SUMPRODUCT(('مصفوفة الكفاءات'!E$12:E$36<C9)*(ISNUMBER('مصفوفة الكفاءات'!E$12:E$36))*(C9-'مصفوفة الكفاءات'!E$12:E$36))/MAX(1,D9)) | G9: =IF(OR(A9="",E9=""),"",B9*F9*E9) | H9: =IF(OR(G9="",G9=0),IF(A9="","","✔ لا توجد فجوة"),RANK(G9,$G$6:$G$15)&IF(E9>=0.5," ⚠ برنامج جماعي للفريق"," ◐ تطوير فردي (كوتشينج أو مهام)"))
A10: =IF('مصفوفة الكفاءات'!F7="","",'مصفوفة الكفاءات'!F7) | B10: =IF(A10="","",'مصفوفة الكفاءات'!F8) | C10: =IF(A10="","",'مصفوفة الكفاءات'!F9) | D10: =IF(A10="","",COUNTIF('مصفوفة الكفاءات'!F$12:F$36,"<"&C10)) | E10: =IF(OR(A10="",COUNT('مصفوفة الكفاءات'!F$12:F$36)=0),"",D10/COUNT('مصفوفة الكفاءات'!F$12:F$36)) | F10: =IF(OR(A10="",COUNT('مصفوفة الكفاءات'!F$12:F$36)=0),"",SUMPRODUCT(('مصفوفة الكفاءات'!F$12:F$36<C10)*(ISNUMBER('مصفوفة الكفاءات'!F$12:F$36))*(C10-'مصفوفة الكفاءات'!F$12:F$36))/MAX(1,D10)) | G10: =IF(OR(A10="",E10=""),"",B10*F10*E10) | H10: =IF(OR(G10="",G10=0),IF(A10="","","✔ لا توجد فجوة"),RANK(G10,$G$6:$G$15)&IF(E10>=0.5," ⚠ برنامج جماعي للفريق"," ◐ تطوير فردي (كوتشينج أو مهام)"))
A11: =IF('مصفوفة الكفاءات'!G7="","",'مصفوفة الكفاءات'!G7) | B11: =IF(A11="","",'مصفوفة الكفاءات'!G8) | C11: =IF(A11="","",'مصفوفة الكفاءات'!G9) | D11: =IF(A11="","",COUNTIF('مصفوفة الكفاءات'!G$12:G$36,"<"&C11)) | E11: =IF(OR(A11="",COUNT('مصفوفة الكفاءات'!G$12:G$36)=0),"",D11/COUNT('مصفوفة الكفاءات'!G$12:G$36)) | F11: =IF(OR(A11="",COUNT('مصفوفة الكفاءات'!G$12:G$36)=0),"",SUMPRODUCT(('مصفوفة الكفاءات'!G$12:G$36<C11)*(ISNUMBER('مصفوفة الكفاءات'!G$12:G$36))*(C11-'مصفوفة الكفاءات'!G$12:G$36))/MAX(1,D11)) | G11: =IF(OR(A11="",E11=""),"",B11*F11*E11) | H11: =IF(OR(G11="",G11=0),IF(A11="","","✔ لا توجد فجوة"),RANK(G11,$G$6:$G$15)&IF(E11>=0.5," ⚠ برنامج جماعي للفريق"," ◐ تطوير فردي (كوتشينج أو مهام)"))
A12: =IF('مصفوفة الكفاءات'!H7="","",'مصفوفة الكفاءات'!H7) | B12: =IF(A12="","",'مصفوفة الكفاءات'!H8) | C12: =IF(A12="","",'مصفوفة الكفاءات'!H9) | D12: =IF(A12="","",COUNTIF('مصفوفة الكفاءات'!H$12:H$36,"<"&C12)) | E12: =IF(OR(A12="",COUNT('مصفوفة الكفاءات'!H$12:H$36)=0),"",D12/COUNT('مصفوفة الكفاءات'!H$12:H$36)) | F12: =IF(OR(A12="",COUNT('مصفوفة الكفاءات'!H$12:H$36)=0),"",SUMPRODUCT(('مصفوفة الكفاءات'!H$12:H$36<C12)*(ISNUMBER('مصفوفة الكفاءات'!H$12:H$36))*(C12-'مصفوفة الكفاءات'!H$12:H$36))/MAX(1,D12)) | G12: =IF(OR(A12="",E12=""),"",B12*F12*E12) | H12: =IF(OR(G12="",G12=0),IF(A12="","","✔ لا توجد فجوة"),RANK(G12,$G$6:$G$15)&IF(E12>=0.5," ⚠ برنامج جماعي للفريق"," ◐ تطوير فردي (كوتشينج أو مهام)"))
A13: =IF('مصفوفة الكفاءات'!I7="","",'مصفوفة الكفاءات'!I7) | B13: =IF(A13="","",'مصفوفة الكفاءات'!I8) | C13: =IF(A13="","",'مصفوفة الكفاءات'!I9) | D13: =IF(A13="","",COUNTIF('مصفوفة الكفاءات'!I$12:I$36,"<"&C13)) | E13: =IF(OR(A13="",COUNT('مصفوفة الكفاءات'!I$12:I$36)=0),"",D13/COUNT('مصفوفة الكفاءات'!I$12:I$36)) | F13: =IF(OR(A13="",COUNT('مصفوفة الكفاءات'!I$12:I$36)=0),"",SUMPRODUCT(('مصفوفة الكفاءات'!I$12:I$36<C13)*(ISNUMBER('مصفوفة الكفاءات'!I$12:I$36))*(C13-'مصفوفة الكفاءات'!I$12:I$36))/MAX(1,D13)) | G13: =IF(OR(A13="",E13=""),"",B13*F13*E13) | H13: =IF(OR(G13="",G13=0),IF(A13="","","✔ لا توجد فجوة"),RANK(G13,$G$6:$G$15)&IF(E13>=0.5," ⚠ برنامج جماعي للفريق"," ◐ تطوير فردي (كوتشينج أو مهام)"))
A14: =IF('مصفوفة الكفاءات'!J7="","",'مصفوفة الكفاءات'!J7) | B14: =IF(A14="","",'مصفوفة الكفاءات'!J8) | C14: =IF(A14="","",'مصفوفة الكفاءات'!J9) | D14: =IF(A14="","",COUNTIF('مصفوفة الكفاءات'!J$12:J$36,"<"&C14)) | E14: =IF(OR(A14="",COUNT('مصفوفة الكفاءات'!J$12:J$36)=0),"",D14/COUNT('مصفوفة الكفاءات'!J$12:J$36)) | F14: =IF(OR(A14="",COUNT('مصفوفة الكفاءات'!J$12:J$36)=0),"",SUMPRODUCT(('مصفوفة الكفاءات'!J$12:J$36<C14)*(ISNUMBER('مصفوفة الكفاءات'!J$12:J$36))*(C14-'مصفوفة الكفاءات'!J$12:J$36))/MAX(1,D14)) | G14: =IF(OR(A14="",E14=""),"",B14*F14*E14) | H14: =IF(OR(G14="",G14=0),IF(A14="","","✔ لا توجد فجوة"),RANK(G14,$G$6:$G$15)&IF(E14>=0.5," ⚠ برنامج جماعي للفريق"," ◐ تطوير فردي (كوتشينج أو مهام)"))
A15: =IF('مصفوفة الكفاءات'!K7="","",'مصفوفة الكفاءات'!K7) | B15: =IF(A15="","",'مصفوفة الكفاءات'!K8) | C15: =IF(A15="","",'مصفوفة الكفاءات'!K9) | D15: =IF(A15="","",COUNTIF('مصفوفة الكفاءات'!K$12:K$36,"<"&C15)) | E15: =IF(OR(A15="",COUNT('مصفوفة الكفاءات'!K$12:K$36)=0),"",D15/COUNT('مصفوفة الكفاءات'!K$12:K$36)) | F15: =IF(OR(A15="",COUNT('مصفوفة الكفاءات'!K$12:K$36)=0),"",SUMPRODUCT(('مصفوفة الكفاءات'!K$12:K$36<C15)*(ISNUMBER('مصفوفة الكفاءات'!K$12:K$36))*(C15-'مصفوفة الكفاءات'!K$12:K$36))/MAX(1,D15)) | G15: =IF(OR(A15="",E15=""),"",B15*F15*E15) | H15: =IF(OR(G15="",G15=0),IF(A15="","","✔ لا توجد فجوة"),RANK(G15,$G$6:$G$15)&IF(E15>=0.5," ⚠ برنامج جماعي للفريق"," ◐ تطوير فردي (كوتشينج أو مهام)"))
A17: قراءة القرار: إذا كانت الفجوة عند نصف الفريق أو أكثر فالأنسب برنامج تدريبي جماعي، وإذا كانت عند أفراد قليلين فالأنسب تطوير فردي ضمن خطة التطوير الفردية (IDP). صمم البرنامج بعدها باستخدام نموذج "خطة برنامج تدريبي ADDIE".
